BEGIN:VCALENDAR
VERSION:2.0
PRODID:-//Obst-, Gartenbau- und Heimatfreundeverein Niederneisen e.V. - ECPv6.8.3//NONSGML v1.0//EN
CALSCALE:GREGORIAN
METHOD:PUBLISH
X-WR-CALNAME:Obst-, Gartenbau- und Heimatfreundeverein Niederneisen e.V.
X-ORIGINAL-URL:https://www.heimatfreunde-niederneisen.de
X-WR-CALDESC:Veranstaltungen für Obst-, Gartenbau- und Heimatfreundeverein Niederneisen e.V.
REFRESH-INTERVAL;VALUE=DURATION:PT1H
X-Robots-Tag:noindex
X-PUBLISHED-TTL:PT1H
BEGIN:VTIMEZONE
TZID:Europe/Paris
BEGIN:DAYLIGHT
TZOFFSETFROM:+0100
TZOFFSETTO:+0200
TZNAME:CEST
DTSTART:20240331T010000
END:DAYLIGHT
BEGIN:STANDARD
TZOFFSETFROM:+0200
TZOFFSETTO:+0100
TZNAME:CET
DTSTART:20241027T010000
END:STANDARD
END:VTIMEZONE
BEGIN:VEVENT
DTSTART;TZID=Europe/Paris:20241206T180000
DTEND;TZID=Europe/Paris:20241206T220000
DTSTAMP:20260423T173820
CREATED:20241130T113635Z
LAST-MODIFIED:20241130T113857Z
UID:664-1733508000-1733522400@www.heimatfreunde-niederneisen.de
SUMMARY:Adventstreff
DESCRIPTION:
URL:https://www.heimatfreunde-niederneisen.de/termine/adventstreff/
LOCATION:Vereinsheim im Kindergarten\, Jahnstraße\, Niederneisen\, 65629\, Deutschland
END:VEVENT
END:VCALENDAR