BEGIN:VCALENDAR
VERSION:2.0
PRODID:-//Obst-, Gartenbau- und Heimatfreundeverein Niederneisen e.V. - ECPv6.8.3//NONSGML v1.0//EN
CALSCALE:GREGORIAN
METHOD:PUBLISH
X-ORIGINAL-URL:https://www.heimatfreunde-niederneisen.de
X-WR-CALDESC:Veranstaltungen für Obst-, Gartenbau- und Heimatfreundeverein Niederneisen e.V.
REFRESH-INTERVAL;VALUE=DURATION:PT1H
X-Robots-Tag:noindex
X-PUBLISHED-TTL:PT1H
BEGIN:VTIMEZONE
TZID:Europe/Paris
BEGIN:DAYLIGHT
TZOFFSETFROM:+0100
TZOFFSETTO:+0200
TZNAME:CEST
DTSTART:20240331T010000
END:DAYLIGHT
BEGIN:STANDARD
TZOFFSETFROM:+0200
TZOFFSETTO:+0100
TZNAME:CET
DTSTART:20241027T010000
END:STANDARD
END:VTIMEZONE
BEGIN:VEVENT
DTSTART;TZID=Europe/Paris:20241129T180000
DTEND;TZID=Europe/Paris:20241129T220000
DTSTAMP:20260423T192142
CREATED:20241114T120017Z
LAST-MODIFIED:20241114T120223Z
UID:640-1732903200-1732917600@www.heimatfreunde-niederneisen.de
SUMMARY:OGH ADVENTSTREFF 2024
DESCRIPTION:Wo: Am Keller der Kita Niederneisen \nWann: 29. November \n6. Dezember \n13. Dezember \n20. Dezember 2024 jeweils ab 18 Uhr \nMit Speisen vom Grill\, leckeren Glühwein und Kaltgetränke \nund mit Verlosung eigener Holzarbeiten .
URL:https://www.heimatfreunde-niederneisen.de/termine/ogh-adventstreff-2024/
LOCATION:Vereinsheim im Kindergarten\, Jahnstraße\, Niederneisen\, 65629\, Deutschland
END:VEVENT
END:VCALENDAR